BEGIN:VCALENDAR
VERSION:2.0
METHOD:PUBLISH
CALSCALE:GREGORIAN
BEGIN:VEVENT
UID:73019652-56e6-44d8-9e05-21efdff38b63
SEQUENCE:0
CLASS:PUBLIC
PRIORITY:5
DTSTAMP:20260420T173125Z
CREATED:20260420T173125Z
DTSTART:20260121T140000Z
SUMMARY:Service religieux de Marie LE FLOC'H
LOCATION:17 rue du 19 Mars 1962, Eglise Saint Jean des Gresillons, 92230, GENNEVILLIERS
BEGIN:VALARM
TRIGGER:-PT30M
ACTION:DISPLAY
DESCRIPTION:Reminder
END:VALARM
END:VEVENT
END:VCALENDAR
