BEGIN:VCALENDAR
VERSION:2.0
METHOD:PUBLISH
CALSCALE:GREGORIAN
BEGIN:VEVENT
UID:02e4a3cc-7062-4516-ba4b-5565e017c2b4
SEQUENCE:0
CLASS:PUBLIC
PRIORITY:5
DTSTAMP:20260421T023123Z
CREATED:20260421T023123Z
DTSTART:20260113T103000Z
SUMMARY:Service religieux de Clément, Antoine GREVE
LOCATION:11 rue Beaurepaire, Eglise Saint-Pierre Saint-Paul, 92700, COLOMBES
BEGIN:VALARM
TRIGGER:-PT30M
ACTION:DISPLAY
DESCRIPTION:Reminder
END:VALARM
END:VEVENT
END:VCALENDAR
