BEGIN:VCALENDAR
VERSION:2.0
METHOD:PUBLISH
CALSCALE:GREGORIAN
BEGIN:VEVENT
UID:d5e2f011-311d-4d4d-b118-9f1f2ed674a5
SEQUENCE:0
CLASS:PUBLIC
PRIORITY:5
DTSTAMP:20260419T150203Z
CREATED:20260419T150203Z
DTSTART:20260106T200000Z
SUMMARY:Crémation de Agnès, Françoise, Renée ZAVARONI
LOCATION:104 rue du Calvaire, Crématorium du Mont Valérien, 92000, NANTERRE
BEGIN:VALARM
TRIGGER:-PT30M
ACTION:DISPLAY
DESCRIPTION:Reminder
END:VALARM
END:VEVENT
END:VCALENDAR
