BEGIN:VCALENDAR
VERSION:2.0
METHOD:PUBLISH
CALSCALE:GREGORIAN
BEGIN:VEVENT
UID:5f28ecf3-98e2-42c3-8594-1f184bf9f4d6
SEQUENCE:0
CLASS:PUBLIC
PRIORITY:5
DTSTAMP:20260419T174214Z
CREATED:20260419T174214Z
DTSTART:20260106T143000Z
SUMMARY:Service religieux de Agnès, Françoise, Renée ZAVARONI
LOCATION:90 avenue du Roule, Eglise Saint-Pierre, 92200, NEUILLY SUR SEINE
BEGIN:VALARM
TRIGGER:-PT30M
ACTION:DISPLAY
DESCRIPTION:Reminder
END:VALARM
END:VEVENT
END:VCALENDAR
