BEGIN:VCALENDAR
VERSION:2.0
METHOD:PUBLISH
CALSCALE:GREGORIAN
BEGIN:VEVENT
UID:ee8d757b-0519-4ced-ab24-1d18b91d07a2
SEQUENCE:0
CLASS:PUBLIC
PRIORITY:5
DTSTAMP:20260421T080707Z
CREATED:20260421T080707Z
DTSTART:20260102T100000Z
SUMMARY:Service religieux de Philippe ROBINS
LOCATION:10 rue des Boudoux, Eglise Saint-Pierre Saint-Paul , 92400, COURBEVOIE
BEGIN:VALARM
TRIGGER:-PT30M
ACTION:DISPLAY
DESCRIPTION:Reminder
END:VALARM
END:VEVENT
END:VCALENDAR
