BEGIN:VCALENDAR
VERSION:2.0
METHOD:PUBLISH
CALSCALE:GREGORIAN
BEGIN:VEVENT
UID:4bdcc426-6610-45b1-ae90-e2cadbd23323
SEQUENCE:0
CLASS:PUBLIC
PRIORITY:5
DTSTAMP:20260421T054947Z
CREATED:20260421T054947Z
DTSTART:20251128T113000Z
DTEND:20251125T163800Z
SUMMARY:Inhumation  de Lise FLORENTIN
LOCATION:Ciemtière de Gennevilliers, 43 Rue Villebois Mareuil, 92230, Gennevilliers
BEGIN:VALARM
TRIGGER:-PT30M
ACTION:DISPLAY
DESCRIPTION:Reminder
END:VALARM
END:VEVENT
END:VCALENDAR
