BEGIN:VCALENDAR
VERSION:2.0
METHOD:PUBLISH
CALSCALE:GREGORIAN
BEGIN:VEVENT
UID:9ffd4f0f-0998-4cf6-ae78-ac90a9b17ad0
SEQUENCE:0
CLASS:PUBLIC
PRIORITY:5
DTSTAMP:20260421T054948Z
CREATED:20260421T054948Z
DTSTART:20251128T090000Z
DTEND:20251125T093000Z
SUMMARY:Recueillement de Lise FLORENTIN
LOCATION:Funérarium de Villeneuve-la-Garenne, 52 Av. du Maréchal Leclerc, 92390, Villeneuve-la-Garenne
BEGIN:VALARM
TRIGGER:-PT30M
ACTION:DISPLAY
DESCRIPTION:Reminder
END:VALARM
END:VEVENT
END:VCALENDAR
