BEGIN:VCALENDAR
VERSION:2.0
METHOD:PUBLISH
CALSCALE:GREGORIAN
BEGIN:VEVENT
UID:cae247cf-60c7-4b95-a9c5-0e5eed8909b2
SEQUENCE:0
CLASS:PUBLIC
PRIORITY:5
DTSTAMP:20260421T054945Z
CREATED:20260421T054945Z
DTSTART:20251128T100000Z
SUMMARY:Service religieux de Lise FLORENTIN
LOCATION:Place Jean GRANDEL, Eglise Sainte-Marie-Madeleine, 92230, GENNEVILLIERS
BEGIN:VALARM
TRIGGER:-PT30M
ACTION:DISPLAY
DESCRIPTION:Reminder
END:VALARM
END:VEVENT
END:VCALENDAR
