BEGIN:VCALENDAR
VERSION:2.0
METHOD:PUBLISH
CALSCALE:GREGORIAN
BEGIN:VEVENT
UID:41cbcdad-1838-4e5e-abaa-646035ef59ca
SEQUENCE:0
CLASS:PUBLIC
PRIORITY:5
DTSTAMP:20260421T054947Z
CREATED:20260421T054947Z
DTSTART:20251128T083000Z
SUMMARY:Crémation de Jean-Pierre, Oscar, René LEMMENS
LOCATION:104 rue du Calvaire, Crématorium du Mont Valérien, 92000, NANTERRE
BEGIN:VALARM
TRIGGER:-PT30M
ACTION:DISPLAY
DESCRIPTION:Reminder
END:VALARM
END:VEVENT
END:VCALENDAR
