BEGIN:VCALENDAR
VERSION:2.0
METHOD:PUBLISH
CALSCALE:GREGORIAN
BEGIN:VEVENT
UID:81beb866-e745-45ec-93f9-a90b0d5d0c23
SEQUENCE:0
CLASS:PUBLIC
PRIORITY:5
DTSTAMP:20260420T131108Z
CREATED:20260420T131108Z
DTSTART:20251127T103000Z
SUMMARY:Service religieux de Jean-Pierre, Oscar, René LEMMENS
LOCATION:Place de la Liberté, Eglise Saint-Urbain, 92250, LA GARENNE COLOMBES
BEGIN:VALARM
TRIGGER:-PT30M
ACTION:DISPLAY
DESCRIPTION:Reminder
END:VALARM
END:VEVENT
END:VCALENDAR
