BEGIN:VCALENDAR
VERSION:2.0
METHOD:PUBLISH
CALSCALE:GREGORIAN
BEGIN:VEVENT
UID:66eb151e-d7fc-4219-9817-3e8d4517f3b0
SEQUENCE:0
CLASS:PUBLIC
PRIORITY:5
DTSTAMP:20260421T101738Z
CREATED:20260421T101738Z
DTSTART:20251121T130000Z
SUMMARY:Crémation de Annie, Raymonde LAFAYE
LOCATION:104 rue du Calvaire, Crématorium du Mont Valérien, 92000, NANTERRE
BEGIN:VALARM
TRIGGER:-PT30M
ACTION:DISPLAY
DESCRIPTION:Reminder
END:VALARM
END:VEVENT
END:VCALENDAR
