BEGIN:VCALENDAR
VERSION:2.0
METHOD:PUBLISH
CALSCALE:GREGORIAN
BEGIN:VEVENT
UID:faf1e644-4128-41c6-abf1-ec84b4d78883
SEQUENCE:0
CLASS:PUBLIC
PRIORITY:5
DTSTAMP:20260420T233648Z
CREATED:20260420T233648Z
DTSTART:20251022T103000Z
SUMMARY:Service religieux de Lucienne, Marie, Louise CHEVALLIER
LOCATION:141 rue Mouffetard, Eglise Saint-Médard, 75005, PARIS
BEGIN:VALARM
TRIGGER:-PT30M
ACTION:DISPLAY
DESCRIPTION:Reminder
END:VALARM
END:VEVENT
END:VCALENDAR
