BEGIN:VCALENDAR
VERSION:2.0
METHOD:PUBLISH
CALSCALE:GREGORIAN
BEGIN:VEVENT
UID:a4401b65-f51f-496d-8fe7-c0c8a7e71d61
SEQUENCE:0
CLASS:PUBLIC
PRIORITY:5
DTSTAMP:20260420T173145Z
CREATED:20260420T173145Z
DTSTART:20251007T150000Z
SUMMARY:Crémation de Marie,Thérèse, Octavie, Marguerite BICHAUD
LOCATION:104 rue du Calvaire, Crématorium du Mont Valérien, 92000, NANTERRE
BEGIN:VALARM
TRIGGER:-PT30M
ACTION:DISPLAY
DESCRIPTION:Reminder
END:VALARM
END:VEVENT
END:VCALENDAR
