BEGIN:VCALENDAR
VERSION:2.0
METHOD:PUBLISH
CALSCALE:GREGORIAN
BEGIN:VEVENT
UID:36b3bab0-4fda-47dc-811c-9f67c37851e2
SEQUENCE:0
CLASS:PUBLIC
PRIORITY:5
DTSTAMP:20260420T173136Z
CREATED:20260420T173136Z
DTSTART:20251007T103000Z
SUMMARY:Service religieux de Marie,Thérèse, Octavie, Marguerite BICHAUD
LOCATION:10 rue des Boudoux, Eglise Saint-Pierre Saint-Paul , 92400, COURBEVOIE
BEGIN:VALARM
TRIGGER:-PT30M
ACTION:DISPLAY
DESCRIPTION:Reminder
END:VALARM
END:VEVENT
END:VCALENDAR
