BEGIN:VCALENDAR
VERSION:2.0
METHOD:PUBLISH
CALSCALE:GREGORIAN
BEGIN:VEVENT
UID:9c5970b6-0692-4759-bec7-37b792c5762a
SEQUENCE:0
CLASS:PUBLIC
PRIORITY:5
DTSTAMP:20260421T054943Z
CREATED:20260421T054943Z
DTSTART:20251002T103000Z
SUMMARY:Service religieux de Monique, Marthe, Thérèse AYRAL
LOCATION:10 rue des Boudoux, Eglise Saint-Pierre Saint-Paul , 92400, COURBEVOIE
BEGIN:VALARM
TRIGGER:-PT30M
ACTION:DISPLAY
DESCRIPTION:Reminder
END:VALARM
END:VEVENT
END:VCALENDAR
