BEGIN:VCALENDAR
VERSION:2.0
METHOD:PUBLISH
CALSCALE:GREGORIAN
BEGIN:VEVENT
UID:3df1d4e0-afe7-473a-a6d2-b3c6c23ee50d
SEQUENCE:0
CLASS:PUBLIC
PRIORITY:5
DTSTAMP:20260420T113357Z
CREATED:20260420T113357Z
DTSTART:20251003T100000Z
SUMMARY:Service religieux de Françoise Andrée ELIE
LOCATION:11 rue Beaurepaire, Eglise Saint-Pierre Saint-Paul, 92700, COLOMBES
BEGIN:VALARM
TRIGGER:-PT30M
ACTION:DISPLAY
DESCRIPTION:Reminder
END:VALARM
END:VEVENT
END:VCALENDAR
