BEGIN:VCALENDAR
VERSION:2.0
METHOD:PUBLISH
CALSCALE:GREGORIAN
BEGIN:VEVENT
UID:b7e55371-c20b-4f6f-b492-d0b8c4f77a28
SEQUENCE:0
CLASS:PUBLIC
PRIORITY:5
DTSTAMP:20260421T054950Z
CREATED:20260421T054950Z
DTSTART:20250925T103000Z
SUMMARY:Service religieux de Nicole, Jeanne, Marie QUIQUEREZ
LOCATION:10 rue des Boudoux, Eglise Saint-Pierre Saint-Paul , 92400, COURBEVOIE
BEGIN:VALARM
TRIGGER:-PT30M
ACTION:DISPLAY
DESCRIPTION:Reminder
END:VALARM
END:VEVENT
END:VCALENDAR
