BEGIN:VCALENDAR
VERSION:2.0
METHOD:PUBLISH
CALSCALE:GREGORIAN
BEGIN:VEVENT
UID:5c661b2e-a156-4aad-af77-b75c74a3b564
SEQUENCE:0
CLASS:PUBLIC
PRIORITY:5
DTSTAMP:20260421T054949Z
CREATED:20260421T054949Z
DTSTART:20250926T143000Z
SUMMARY:Service religieux de Muriel DOMENGE
LOCATION:182 rue du Ménil, Eglise Saint-Joseph des Quatre Routes, 92600, ASNIERES SUR SEINE
BEGIN:VALARM
TRIGGER:-PT30M
ACTION:DISPLAY
DESCRIPTION:Reminder
END:VALARM
END:VEVENT
END:VCALENDAR
