BEGIN:VCALENDAR
VERSION:2.0
METHOD:PUBLISH
CALSCALE:GREGORIAN
BEGIN:VEVENT
UID:4834eee0-613d-485d-83c8-6440f5c047dd
SEQUENCE:0
CLASS:PUBLIC
PRIORITY:5
DTSTAMP:20260420T155104Z
CREATED:20260420T155104Z
DTSTART:20250923T163000Z
SUMMARY:Crémation de Marie-Paul, Marguerite, Gisèle, Ghislaine DEHEYN
LOCATION:104 rue du Calvaire, Crématorium du Mont Valérien, 92000, NANTERRE
BEGIN:VALARM
TRIGGER:-PT30M
ACTION:DISPLAY
DESCRIPTION:Reminder
END:VALARM
END:VEVENT
END:VCALENDAR
