BEGIN:VCALENDAR
VERSION:2.0
METHOD:PUBLISH
CALSCALE:GREGORIAN
BEGIN:VEVENT
UID:52ccb9ca-289d-49a5-96c9-5db13cd5bbfc
SEQUENCE:0
CLASS:PUBLIC
PRIORITY:5
DTSTAMP:20260421T023146Z
CREATED:20260421T023146Z
DTSTART:20250923T100000Z
SUMMARY:Service religieux de Marie-Paul, Marguerite, Gisèle, Ghislaine DEHEYN
LOCATION:place de l'Eglise, Eglise Saint-Pierre Saint-Paul, 92500, RUEIL MALMAISON
BEGIN:VALARM
TRIGGER:-PT30M
ACTION:DISPLAY
DESCRIPTION:Reminder
END:VALARM
END:VEVENT
END:VCALENDAR
