BEGIN:VCALENDAR
VERSION:2.0
METHOD:PUBLISH
CALSCALE:GREGORIAN
BEGIN:VEVENT
UID:213eb5e7-d88c-449d-9c99-737b1ebf79b4
SEQUENCE:0
CLASS:PUBLIC
PRIORITY:5
DTSTAMP:20260421T012026Z
CREATED:20260421T012026Z
DTSTART:20250904T103000Z
SUMMARY:Service religieux de Laetitia VOUILLE
LOCATION:Place d'Estienne-d'Orves (rue Rivay), Eglise Saint-Justin, 92300, LEVALLOIS-PERRET
BEGIN:VALARM
TRIGGER:-PT30M
ACTION:DISPLAY
DESCRIPTION:Reminder
END:VALARM
END:VEVENT
END:VCALENDAR
