BEGIN:VCALENDAR
VERSION:2.0
METHOD:PUBLISH
CALSCALE:GREGORIAN
BEGIN:VEVENT
UID:1dbfcd54-5959-4f59-85f4-2662dd9d11b9
SEQUENCE:0
CLASS:PUBLIC
PRIORITY:5
DTSTAMP:20260421T093224Z
CREATED:20260421T093224Z
DTSTART:20250902T103000Z
SUMMARY:Service religieux de Bruna Rita MURAIL
LOCATION:39 rue Berthelot, Eglise Saint-Adrien, 92400, COURBEVOIE
BEGIN:VALARM
TRIGGER:-PT30M
ACTION:DISPLAY
DESCRIPTION:Reminder
END:VALARM
END:VEVENT
END:VCALENDAR
