BEGIN:VCALENDAR
VERSION:2.0
METHOD:PUBLISH
CALSCALE:GREGORIAN
BEGIN:VEVENT
UID:6d6b09bb-973e-4e75-8694-961bf4553ae7
SEQUENCE:0
CLASS:PUBLIC
PRIORITY:5
DTSTAMP:20260421T054944Z
CREATED:20260421T054944Z
DTSTART:20250813T140000Z
SUMMARY:Service religieux de Sylvie, Marie, Jeanne VIOLET
LOCATION:52 avenue Danielle Casanova, Eglise Sainte-Thérèse, 93150, LE BLANC MESNIL
BEGIN:VALARM
TRIGGER:-PT30M
ACTION:DISPLAY
DESCRIPTION:Reminder
END:VALARM
END:VEVENT
END:VCALENDAR
