BEGIN:VCALENDAR
VERSION:2.0
METHOD:PUBLISH
CALSCALE:GREGORIAN
BEGIN:VEVENT
UID:afe8b70e-037c-4a84-9d1d-cb1efe9c2dce
SEQUENCE:0
CLASS:PUBLIC
PRIORITY:5
DTSTAMP:20260420T233653Z
CREATED:20260420T233653Z
DTSTART:20250808T123000Z
SUMMARY:Crémation de Gérard, Georges GAUTHERON
LOCATION:44-48 rue du Lavoir, Crématorium de Montfermeil , 93370, MONTFERMEIL
BEGIN:VALARM
TRIGGER:-PT30M
ACTION:DISPLAY
DESCRIPTION:Reminder
END:VALARM
END:VEVENT
END:VCALENDAR
