BEGIN:VCALENDAR
VERSION:2.0
METHOD:PUBLISH
CALSCALE:GREGORIAN
BEGIN:VEVENT
UID:28d9a078-ad57-4185-bf22-500b9a718596
SEQUENCE:0
CLASS:PUBLIC
PRIORITY:5
DTSTAMP:20260421T054945Z
CREATED:20260421T054945Z
DTSTART:20250730T133000Z
SUMMARY:Crémation de Rachel, Arlette NELSON
LOCATION:104 rue du Calvaire, Crématorium du Mont Valérien, 92000, NANTERRE
BEGIN:VALARM
TRIGGER:-PT30M
ACTION:DISPLAY
DESCRIPTION:Reminder
END:VALARM
END:VEVENT
END:VCALENDAR
