BEGIN:VCALENDAR
VERSION:2.0
METHOD:PUBLISH
CALSCALE:GREGORIAN
BEGIN:VEVENT
UID:ffd7ff2d-421a-4de0-97a7-e81c0901386c
SEQUENCE:0
CLASS:PUBLIC
PRIORITY:5
DTSTAMP:20260420T173200Z
CREATED:20260420T173200Z
DTSTART:20250726T103000Z
SUMMARY:Crémation de Noëlle, Marie, Julia CHASTAGNER
LOCATION:104 rue du Calvaire, Crématorium du Mont Valérien, 92000, NANTERRE
BEGIN:VALARM
TRIGGER:-PT30M
ACTION:DISPLAY
DESCRIPTION:Reminder
END:VALARM
END:VEVENT
END:VCALENDAR
