BEGIN:VCALENDAR
VERSION:2.0
METHOD:PUBLISH
CALSCALE:GREGORIAN
BEGIN:VEVENT
UID:1c7cfc8c-9db8-4248-808b-e854fd16d724
SEQUENCE:0
CLASS:PUBLIC
PRIORITY:5
DTSTAMP:20260420T131103Z
CREATED:20260420T131103Z
DTSTART:20250726T093000Z
SUMMARY:Service religieux de Noëlle, Marie, Julia CHASTAGNER
LOCATION:104 rue du Calvaire, Crématorium du Mont Valérien, 92000, NANTERRE
BEGIN:VALARM
TRIGGER:-PT30M
ACTION:DISPLAY
DESCRIPTION:Reminder
END:VALARM
END:VEVENT
END:VCALENDAR
