BEGIN:VCALENDAR
VERSION:2.0
METHOD:PUBLISH
CALSCALE:GREGORIAN
BEGIN:VEVENT
UID:3ffc9014-f6f5-49b0-9b6f-8f247ef7b43b
SEQUENCE:0
CLASS:PUBLIC
PRIORITY:5
DTSTAMP:20260421T082940Z
CREATED:20260421T082940Z
DTSTART:20250725T103000Z
SUMMARY:Crémation de Denise, Louise GACOUIN
LOCATION:104 rue du Calvaire, Crématorium du Mont Valérien, 92000, NANTERRE
BEGIN:VALARM
TRIGGER:-PT30M
ACTION:DISPLAY
DESCRIPTION:Reminder
END:VALARM
END:VEVENT
END:VCALENDAR
