BEGIN:VCALENDAR
VERSION:2.0
METHOD:PUBLISH
CALSCALE:GREGORIAN
BEGIN:VEVENT
UID:1f75d1c0-b081-4d79-ba0f-2c41a714702f
SEQUENCE:0
CLASS:PUBLIC
PRIORITY:5
DTSTAMP:20260421T024946Z
CREATED:20260421T024946Z
DTSTART:20250725T000000Z
SUMMARY:Dispersion des cendres de Denise, Louise GACOUIN
LOCATION:104 rue du Calvaire, Crématorium du Mont Valérien, 92000, NANTERRE
BEGIN:VALARM
TRIGGER:-PT30M
ACTION:DISPLAY
DESCRIPTION:Reminder
END:VALARM
END:VEVENT
END:VCALENDAR
