BEGIN:VCALENDAR
VERSION:2.0
METHOD:PUBLISH
CALSCALE:GREGORIAN
BEGIN:VEVENT
UID:b21f278a-bcbe-43fd-8132-dd3f186fb1c4
SEQUENCE:0
CLASS:PUBLIC
PRIORITY:5
DTSTAMP:20260421T054949Z
CREATED:20260421T054949Z
DTSTART:20250721T103000Z
SUMMARY:Service religieux de Josiane RERY
LOCATION:31 rue du Général Leclerc, Eglise Notre-Dame de Bon Secours, 92270, BOIS COLOMBES
BEGIN:VALARM
TRIGGER:-PT30M
ACTION:DISPLAY
DESCRIPTION:Reminder
END:VALARM
END:VEVENT
END:VCALENDAR
