BEGIN:VCALENDAR
VERSION:2.0
METHOD:PUBLISH
CALSCALE:GREGORIAN
BEGIN:VEVENT
UID:bf1fed2c-3902-4f16-9b14-1cacfbfc9e0e
SEQUENCE:0
CLASS:PUBLIC
PRIORITY:5
DTSTAMP:20260421T063025Z
CREATED:20260421T063025Z
DTSTART:20250619T143000Z
SUMMARY:Crémation de Martine, Maria DELMON
LOCATION:104 rue du Calvaire, Crématorium du Mont Valérien, 92000, NANTERRE
BEGIN:VALARM
TRIGGER:-PT30M
ACTION:DISPLAY
DESCRIPTION:Reminder
END:VALARM
END:VEVENT
END:VCALENDAR
