BEGIN:VCALENDAR
VERSION:2.0
METHOD:PUBLISH
CALSCALE:GREGORIAN
BEGIN:VEVENT
UID:ee27674d-949a-45fe-89b3-02e03c11579d
SEQUENCE:0
CLASS:PUBLIC
PRIORITY:5
DTSTAMP:20260420T214814Z
CREATED:20260420T214814Z
DTSTART:20250613T133000Z
SUMMARY:Crémation de Yvonne HECTOR
LOCATION:104 rue du Calvaire, Crématorium du Mont Valérien, 92000, NANTERRE
BEGIN:VALARM
TRIGGER:-PT30M
ACTION:DISPLAY
DESCRIPTION:Reminder
END:VALARM
END:VEVENT
END:VCALENDAR
