BEGIN:VCALENDAR
VERSION:2.0
METHOD:PUBLISH
CALSCALE:GREGORIAN
BEGIN:VEVENT
UID:1c7658f5-b3fd-4d7c-be52-c8f52ecfd23e
SEQUENCE:0
CLASS:PUBLIC
PRIORITY:5
DTSTAMP:20260420T214809Z
CREATED:20260420T214809Z
DTSTART:20250613T000000Z
SUMMARY:Dispersion des cendres de Yvonne HECTOR
LOCATION:104 rue du Calvaire, Crématorium du Mont Valérien, 92000, NANTERRE
BEGIN:VALARM
TRIGGER:-PT30M
ACTION:DISPLAY
DESCRIPTION:Reminder
END:VALARM
END:VEVENT
END:VCALENDAR
