BEGIN:VCALENDAR
VERSION:2.0
METHOD:PUBLISH
CALSCALE:GREGORIAN
BEGIN:VEVENT
UID:29e049f8-1787-4a45-8127-3e676dcf0032
SEQUENCE:0
CLASS:PUBLIC
PRIORITY:5
DTSTAMP:20260420T131058Z
CREATED:20260420T131058Z
DTSTART:20250606T100000Z
SUMMARY:Service religieux de André, Michel, Roger GROLLEAU
LOCATION:10 rue des Boudoux, Eglise Saint-Pierre Saint-Paul , 92400, COURBEVOIE
BEGIN:VALARM
TRIGGER:-PT30M
ACTION:DISPLAY
DESCRIPTION:Reminder
END:VALARM
END:VEVENT
END:VCALENDAR
