BEGIN:VCALENDAR
VERSION:2.0
METHOD:PUBLISH
CALSCALE:GREGORIAN
BEGIN:VEVENT
UID:2500c267-184c-49f9-ac2f-8aabb632632e
SEQUENCE:0
CLASS:PUBLIC
PRIORITY:5
DTSTAMP:20260420T113337Z
CREATED:20260420T113337Z
DTSTART:20250605T103000Z
SUMMARY:Service religieux de Gisèle, Rolande CLEMENCEAU
LOCATION:10 rue des Boudoux, Eglise Saint-Pierre Saint-Paul , 92400, COURBEVOIE
BEGIN:VALARM
TRIGGER:-PT30M
ACTION:DISPLAY
DESCRIPTION:Reminder
END:VALARM
END:VEVENT
END:VCALENDAR
