BEGIN:VCALENDAR
VERSION:2.0
METHOD:PUBLISH
CALSCALE:GREGORIAN
BEGIN:VEVENT
UID:de3da3ed-888a-4730-a1d6-882a0873acc1
SEQUENCE:0
CLASS:PUBLIC
PRIORITY:5
DTSTAMP:20260421T054943Z
CREATED:20260421T054943Z
DTSTART:20250530T150000Z
SUMMARY:Service religieux de Andrée VILLARD
LOCATION:1 rue des érables, Eglise Saint-Georges, 23160, AZERABLES
BEGIN:VALARM
TRIGGER:-PT30M
ACTION:DISPLAY
DESCRIPTION:Reminder
END:VALARM
END:VEVENT
END:VCALENDAR
