BEGIN:VCALENDAR
VERSION:2.0
METHOD:PUBLISH
CALSCALE:GREGORIAN
BEGIN:VEVENT
UID:bfd5885a-6aad-4f5d-8751-be4f7be7a83e
SEQUENCE:0
CLASS:PUBLIC
PRIORITY:5
DTSTAMP:20260420T113342Z
CREATED:20260420T113342Z
DTSTART:20250527T093000Z
SUMMARY:Crémation de Jean-Claude, Michel BIJARD
LOCATION:104 rue du Calvaire, Crématorium du Mont Valérien, 92000, NANTERRE
BEGIN:VALARM
TRIGGER:-PT30M
ACTION:DISPLAY
DESCRIPTION:Reminder
END:VALARM
END:VEVENT
END:VCALENDAR
