BEGIN:VCALENDAR
VERSION:2.0
METHOD:PUBLISH
CALSCALE:GREGORIAN
BEGIN:VEVENT
UID:b677f74f-bd9a-4f49-82f6-95e191ce812d
SEQUENCE:0
CLASS:PUBLIC
PRIORITY:5
DTSTAMP:20260420T113332Z
CREATED:20260420T113332Z
DTSTART:20250527T000000Z
SUMMARY:Dispersion des cendres de Jean-Claude, Michel BIJARD
LOCATION:104 rue du Calvaire, Crématorium du Mont Valérien, 92000, NANTERRE
BEGIN:VALARM
TRIGGER:-PT30M
ACTION:DISPLAY
DESCRIPTION:Reminder
END:VALARM
END:VEVENT
END:VCALENDAR
